BEGIN:VCALENDAR
VERSION:2.0
PRODID:-//God's Abundant Love - ECPv5.3.2//NONSGML v1.0//EN
CALSCALE:GREGORIAN
METHOD:PUBLISH
X-WR-CALNAME:God's Abundant Love
X-ORIGINAL-URL:https://godsabundantlove.org
X-WR-CALDESC:Events for God's Abundant Love
BEGIN:VTIMEZONE
TZID:America/Chicago
BEGIN:DAYLIGHT
TZOFFSETFROM:-0600
TZOFFSETTO:-0500
TZNAME:CDT
DTSTART:20200308T080000
END:DAYLIGHT
BEGIN:STANDARD
TZOFFSETFROM:-0500
TZOFFSETTO:-0600
TZNAME:CST
DTSTART:20201101T070000
END:STANDARD
END:VTIMEZONE
BEGIN:VEVENT
DTSTART;VALUE=DATE:20200120
DTEND;VALUE=DATE:20200121
DTSTAMP:20260419T152107
CREATED:20200117T135320Z
LAST-MODIFIED:20200117T135536Z
UID:229-1579478400-1579564799@godsabundantlove.org
SUMMARY:Martin Luther King Jr. Day
DESCRIPTION:I Have a Dream Speech
URL:https://godsabundantlove.org/event/martin-luther-king-jr-day/
ATTACH;FMTTYPE=image/jpeg:https://godsabundantlove.org/wp-content/uploads/2020/01/mlk-day.jpg
END:VEVENT
END:VCALENDAR