BEGIN:VCALENDAR
VERSION:2.0
PRODID:-//God's Abundant Love - ECPv5.3.2//NONSGML v1.0//EN
CALSCALE:GREGORIAN
METHOD:PUBLISH
X-WR-CALNAME:God's Abundant Love
X-ORIGINAL-URL:https://godsabundantlove.org
X-WR-CALDESC:Events for God's Abundant Love
BEGIN:VTIMEZONE
TZID:America/Chicago
BEGIN:DAYLIGHT
TZOFFSETFROM:-0600
TZOFFSETTO:-0500
TZNAME:CDT
DTSTART:20200308T080000
END:DAYLIGHT
BEGIN:STANDARD
TZOFFSETFROM:-0500
TZOFFSETTO:-0600
TZNAME:CST
DTSTART:20201101T070000
END:STANDARD
END:VTIMEZONE
BEGIN:VEVENT
DTSTART;TZID=America/Chicago:20200125T160000
DTEND;TZID=America/Chicago:20200125T190000
DTSTAMP:20260419T120532
CREATED:20200117T132638Z
LAST-MODIFIED:20200117T133943Z
UID:221-1579968000-1579978800@godsabundantlove.org
SUMMARY:Unified Women of God Meeting
DESCRIPTION:
URL:https://godsabundantlove.org/event/unified-women-of-god-meeting/
LOCATION:Unified Women of God\, 7015 Annunciation\, Houston\, TX\, 77016\, United States
ATTACH;FMTTYPE=image/jpeg:https://godsabundantlove.org/wp-content/uploads/2020/01/Unified-women.jpg
END:VEVENT
END:VCALENDAR